BEGIN:VCALENDAR
VERSION:2.0
PRODID:-//AROSS - ECPv6.15.20//NONSGML v1.0//EN
CALSCALE:GREGORIAN
METHOD:PUBLISH
X-ORIGINAL-URL:https://aross.nl
X-WR-CALDESC:Evenementen voor AROSS
REFRESH-INTERVAL;VALUE=DURATION:PT1H
X-Robots-Tag:noindex
X-PUBLISHED-TTL:PT1H
BEGIN:VTIMEZONE
TZID:Europe/Amsterdam
BEGIN:DAYLIGHT
TZOFFSETFROM:+0100
TZOFFSETTO:+0200
TZNAME:CEST
DTSTART:20230326T010000
END:DAYLIGHT
BEGIN:STANDARD
TZOFFSETFROM:+0200
TZOFFSETTO:+0100
TZNAME:CET
DTSTART:20231029T010000
END:STANDARD
BEGIN:DAYLIGHT
TZOFFSETFROM:+0100
TZOFFSETTO:+0200
TZNAME:CEST
DTSTART:20240331T010000
END:DAYLIGHT
BEGIN:STANDARD
TZOFFSETFROM:+0200
TZOFFSETTO:+0100
TZNAME:CET
DTSTART:20241027T010000
END:STANDARD
BEGIN:DAYLIGHT
TZOFFSETFROM:+0100
TZOFFSETTO:+0200
TZNAME:CEST
DTSTART:20250330T010000
END:DAYLIGHT
BEGIN:STANDARD
TZOFFSETFROM:+0200
TZOFFSETTO:+0100
TZNAME:CET
DTSTART:20251026T010000
END:STANDARD
END:VTIMEZONE
BEGIN:VEVENT
DTSTART;TZID=Europe/Amsterdam:20240922T080000
DTEND;TZID=Europe/Amsterdam:20240922T170000
DTSTAMP:20260425T030727
CREATED:20220926T185445Z
LAST-MODIFIED:20240225T190307Z
UID:4454-1726992000-1727024400@aross.nl
SUMMARY:Willemsregatta
DESCRIPTION:
URL:https://aross.nl/event/willemsregatta/
LOCATION:RV De Hertog\, Citadellaan 28\, "s-Hertogenbosch\, 5211 XB
CATEGORIES:Wedstrijdroeien
END:VEVENT
END:VCALENDAR