BEGIN:VCALENDAR
VERSION:2.0
PRODID:-//AROSS - ECPv6.15.20//NONSGML v1.0//EN
CALSCALE:GREGORIAN
METHOD:PUBLISH
X-WR-CALNAME:AROSS
X-ORIGINAL-URL:https://aross.nl
X-WR-CALDESC:Evenementen voor AROSS
REFRESH-INTERVAL;VALUE=DURATION:PT1H
X-Robots-Tag:noindex
X-PUBLISHED-TTL:PT1H
BEGIN:VTIMEZONE
TZID:Europe/Amsterdam
BEGIN:DAYLIGHT
TZOFFSETFROM:+0100
TZOFFSETTO:+0200
TZNAME:CEST
DTSTART:20230326T010000
END:DAYLIGHT
BEGIN:STANDARD
TZOFFSETFROM:+0200
TZOFFSETTO:+0100
TZNAME:CET
DTSTART:20231029T010000
END:STANDARD
BEGIN:DAYLIGHT
TZOFFSETFROM:+0100
TZOFFSETTO:+0200
TZNAME:CEST
DTSTART:20240331T010000
END:DAYLIGHT
BEGIN:STANDARD
TZOFFSETFROM:+0200
TZOFFSETTO:+0100
TZNAME:CET
DTSTART:20241027T010000
END:STANDARD
BEGIN:DAYLIGHT
TZOFFSETFROM:+0100
TZOFFSETTO:+0200
TZNAME:CEST
DTSTART:20250330T010000
END:DAYLIGHT
BEGIN:STANDARD
TZOFFSETFROM:+0200
TZOFFSETTO:+0100
TZNAME:CET
DTSTART:20251026T010000
END:STANDARD
END:VTIMEZONE
BEGIN:VEVENT
DTSTART;TZID=Europe/Amsterdam:20241012T080000
DTEND;TZID=Europe/Amsterdam:20241012T170000
DTSTAMP:20260425T020001
CREATED:20210911T040000Z
LAST-MODIFIED:20240207T142115Z
UID:1662-1728720000-1728752400@aross.nl
SUMMARY:Army Regatta
DESCRIPTION:
URL:https://aross.nl/event/test/
LOCATION:Dudok van Heel\, Kasteelplein 10\, Breda\, 4811XC
CATEGORIES:Wedstrijdroeien
END:VEVENT
END:VCALENDAR