BEGIN:VCALENDAR
VERSION:2.0
PRODID:-//AROSS - ECPv6.15.20//NONSGML v1.0//EN
CALSCALE:GREGORIAN
METHOD:PUBLISH
X-WR-CALNAME:AROSS
X-ORIGINAL-URL:https://aross.nl
X-WR-CALDESC:Evenementen voor AROSS
REFRESH-INTERVAL;VALUE=DURATION:PT1H
X-Robots-Tag:noindex
X-PUBLISHED-TTL:PT1H
BEGIN:VTIMEZONE
TZID:Europe/Amsterdam
BEGIN:DAYLIGHT
TZOFFSETFROM:+0100
TZOFFSETTO:+0200
TZNAME:CEST
DTSTART:20240331T010000
END:DAYLIGHT
BEGIN:STANDARD
TZOFFSETFROM:+0200
TZOFFSETTO:+0100
TZNAME:CET
DTSTART:20241027T010000
END:STANDARD
BEGIN:DAYLIGHT
TZOFFSETFROM:+0100
TZOFFSETTO:+0200
TZNAME:CEST
DTSTART:20250330T010000
END:DAYLIGHT
BEGIN:STANDARD
TZOFFSETFROM:+0200
TZOFFSETTO:+0100
TZNAME:CET
DTSTART:20251026T010000
END:STANDARD
BEGIN:DAYLIGHT
TZOFFSETFROM:+0100
TZOFFSETTO:+0200
TZNAME:CEST
DTSTART:20260329T010000
END:DAYLIGHT
BEGIN:STANDARD
TZOFFSETFROM:+0200
TZOFFSETTO:+0100
TZNAME:CET
DTSTART:20261025T010000
END:STANDARD
BEGIN:DAYLIGHT
TZOFFSETFROM:+0100
TZOFFSETTO:+0200
TZNAME:CEST
DTSTART:20270328T010000
END:DAYLIGHT
BEGIN:STANDARD
TZOFFSETFROM:+0200
TZOFFSETTO:+0100
TZNAME:CET
DTSTART:20271031T010000
END:STANDARD
END:VTIMEZONE
BEGIN:VEVENT
DTSTART;TZID=Europe/Amsterdam:20260322T120000
DTEND;TZID=Europe/Amsterdam:20260322T170000
DTSTAMP:20260423T004615
CREATED:20210327T100000Z
LAST-MODIFIED:20250915T134413Z
UID:1281-1774180800-1774198800@aross.nl
SUMMARY:Tweehead
DESCRIPTION:
URL:https://aross.nl/event/tweehead/
LOCATION:KARZV De Hoop\, Weesperzijde 1046A\, Amsterdam\, 1091 EH
CATEGORIES:Roeien,Wedstrijdroeien
END:VEVENT
BEGIN:VEVENT
DTSTART;TZID=Europe/Amsterdam:20260321T080000
DTEND;TZID=Europe/Amsterdam:20260321T170000
DTSTAMP:20260423T004615
CREATED:20210328T040000Z
LAST-MODIFIED:20250915T135534Z
UID:1283-1774080000-1774112400@aross.nl
SUMMARY:Skiffhead
DESCRIPTION:
URL:https://aross.nl/event/skiffhead/
LOCATION:KARZV De Hoop\, Weesperzijde 1046A\, Amsterdam\, 1091 EH
CATEGORIES:Roeien,Wedstrijdroeien
ATTACH;FMTTYPE=image/jpeg:https://aross.nl/wp-content/uploads/2021/03/skiffhead.jpg
END:VEVENT
BEGIN:VEVENT
DTSTART;TZID=Europe/Amsterdam:20260314T080000
DTEND;TZID=Europe/Amsterdam:20260315T170000
DTSTAMP:20260423T004615
CREATED:20260310T191524Z
LAST-MODIFIED:20260310T191524Z
UID:6411-1773475200-1773594000@aross.nl
SUMMARY:Heineken Roeivierkamp
DESCRIPTION:
URL:https://aross.nl/event/heineken-roeivierkamp/
LOCATION:A.S.R NEREUS\, Amsteldijk 130 A\, Amsterdam\, 1078RT
CATEGORIES:AROSS,Wedstrijdroeien
ORGANIZER;CN="A.S.R. NEREUS":MAILTO:info@roeivierkamp.nl
END:VEVENT
BEGIN:VEVENT
DTSTART;TZID=Europe/Amsterdam:20260314T080000
DTEND;TZID=Europe/Amsterdam:20260315T140000
DTSTAMP:20260423T004615
CREATED:20221122T190129Z
LAST-MODIFIED:20260310T192116Z
UID:4567-1773475200-1773583200@aross.nl
SUMMARY:NL-Doet/ Klussendag AROSS
DESCRIPTION:
URL:https://aross.nl/event/nl-doet/
LOCATION:AROSS\, Ossestraat 15\, Macharen\, Noord-Brabant\, 5367NE\, Nederland
CATEGORIES:AROSS
ATTACH;FMTTYPE=image/jpeg:https://aross.nl/wp-content/uploads/2020/08/fotoshoot_20140412_0116.jpg
ORGANIZER;CN="AROSS":MAILTO:roeien@aross.nl
END:VEVENT
BEGIN:VEVENT
DTSTART;VALUE=DATE:20260307
DTEND;VALUE=DATE:20260309
DTSTAMP:20260423T004615
CREATED:20210320T100000Z
LAST-MODIFIED:20250915T135415Z
UID:1122-1772841600-1773014399@aross.nl
SUMMARY:Head of the River Amstel
DESCRIPTION:
URL:https://aross.nl/event/head-of-the-river/
LOCATION:RV Willem 3\, Jan Vroegopsingel 8\, Amsterdam\, 1096 CN
CATEGORIES:Roeien,Wedstrijdroeien
ATTACH;FMTTYPE=image/jpeg:https://aross.nl/wp-content/uploads/2021/03/head-of-the-river.jpg
END:VEVENT
BEGIN:VEVENT
DTSTART;TZID=Europe/Amsterdam:20260225T200000
DTEND;TZID=Europe/Amsterdam:20260225T220000
DTSTAMP:20260423T004615
CREATED:20221122T185913Z
LAST-MODIFIED:20250915T131736Z
UID:4565-1772049600-1772056800@aross.nl
SUMMARY:Algemene Vergadering
DESCRIPTION:
URL:https://aross.nl/event/av/
LOCATION:AROSS\, Ossestraat 15\, Macharen\, Noord-Brabant\, 5367NE\, Nederland
CATEGORIES:AROSS
ATTACH;FMTTYPE=image/jpeg:https://aross.nl/wp-content/uploads/2020/08/Onderlinge-wedstrijden_20100925_0013.jpg
ORGANIZER;CN="AROSS":MAILTO:roeien@aross.nl
END:VEVENT
BEGIN:VEVENT
DTSTART;TZID=Europe/Amsterdam:20260131T193000
DTEND;TZID=Europe/Amsterdam:20260131T223000
DTSTAMP:20260423T004615
CREATED:20250915T131427Z
LAST-MODIFIED:20250915T131643Z
UID:6223-1769887800-1769898600@aross.nl
SUMMARY:Filmavond
DESCRIPTION:
URL:https://aross.nl/event/filmavond/
LOCATION:AROSS\, Ossestraat 15\, Macharen\, Noord-Brabant\, 5367NE\, Nederland
ATTACH;FMTTYPE=image/webp:https://aross.nl/wp-content/uploads/2025/09/images.webp
ORGANIZER;CN="AROSS":MAILTO:roeien@aross.nl
END:VEVENT
BEGIN:VEVENT
DTSTART;TZID=Europe/Amsterdam:20260111T150000
DTEND;TZID=Europe/Amsterdam:20260111T180000
DTSTAMP:20260423T004615
CREATED:20221015T135817Z
LAST-MODIFIED:20250915T135952Z
UID:4497-1768143600-1768154400@aross.nl
SUMMARY:Nieuwjaarsbijeenkomst
DESCRIPTION:De AROSS Nieuwjaarsbijeenkomst zal worden gehouden op zondag 11 januari 2026 om 15.00 uur in ons clubhuis ‘de Kolk’. \nDe Nieuwjaarsbijeenkomst is bij uitstek de gelegenheid om in de wintertijd de sociale roeibanden aan te halen. \nHet bestuur verwacht een grote opkomst. \nTot ziens op 11 januari ! \nHet bestuur
URL:https://aross.nl/event/nieuwjaarsbijeenkomst/
LOCATION:AROSS\, Ossestraat 15\, Macharen\, Noord-Brabant\, 5367NE\, Nederland
CATEGORIES:AROSS
ATTACH;FMTTYPE=image/jpeg:https://aross.nl/wp-content/uploads/2020/08/fotoshoot_20140412_0116.jpg
ORGANIZER;CN="AROSS":MAILTO:roeien@aross.nl
END:VEVENT
BEGIN:VEVENT
DTSTART;TZID=Europe/Amsterdam:20251129T193000
DTEND;TZID=Europe/Amsterdam:20251129T223000
DTSTAMP:20260423T004615
CREATED:20250915T133923Z
LAST-MODIFIED:20250916T111158Z
UID:6238-1764444600-1764455400@aross.nl
SUMMARY:Pubquiz & hapjes
DESCRIPTION:
URL:https://aross.nl/event/pubquiz-hapjes/
LOCATION:AROSS\, Ossestraat 15\, Macharen\, Noord-Brabant\, 5367NE\, Nederland
CATEGORIES:AROSS
ATTACH;FMTTYPE=image/jpeg:https://aross.nl/wp-content/uploads/2020/08/fotoshoot_20140412_0116.jpg
ORGANIZER;CN="AROSS":MAILTO:roeien@aross.nl
END:VEVENT
BEGIN:VEVENT
DTSTART;TZID=Europe/Amsterdam:20251123T080000
DTEND;TZID=Europe/Amsterdam:20251123T170000
DTSTAMP:20260423T004615
CREATED:20250915T133647Z
LAST-MODIFIED:20250915T133647Z
UID:6232-1763884800-1763917200@aross.nl
SUMMARY:Winterrace
DESCRIPTION:
URL:https://aross.nl/event/winterrace/
LOCATION:ERV Beatrix\, Kanaal-Noord 61\, Eindhoven\, Noord-Brabant\, 5642 JA\, Netherlands
CATEGORIES:Roeien,Wedstrijdroeien
ORGANIZER;CN="ERV Beatrix":MAILTO:winterrace@ervbeatrix.nl
END:VEVENT
BEGIN:VEVENT
DTSTART;TZID=Europe/Amsterdam:20251108T080000
DTEND;TZID=Europe/Amsterdam:20251108T170000
DTSTAMP:20260423T004615
CREATED:20221112T060000Z
LAST-MODIFIED:20250915T131948Z
UID:1762-1762588800-1762621200@aross.nl
SUMMARY:Lingebokaal
DESCRIPTION:Wedstrijd over 6.000 meter
URL:https://aross.nl/event/lingebokaal/
LOCATION:RV Leerdam\, Lingedijk 27\, Leerdam\, 4142 LD
CATEGORIES:Wedstrijdroeien
END:VEVENT
BEGIN:VEVENT
DTSTART;TZID=Europe/Amsterdam:20251102T080000
DTEND;TZID=Europe/Amsterdam:20251102T170000
DTSTAMP:20260423T004615
CREATED:20250915T132657Z
LAST-MODIFIED:20250915T132657Z
UID:6230-1762070400-1762102800@aross.nl
SUMMARY:November Vieren
DESCRIPTION:
URL:https://aross.nl/event/november-vieren/
LOCATION:KARZV De Hoop\, Weesperzijde 1046A\, Amsterdam\, 1091 EH
CATEGORIES:Roeien,Wedstrijdroeien
END:VEVENT
BEGIN:VEVENT
DTSTART;TZID=Europe/Amsterdam:20251025T160000
DTEND;TZID=Europe/Amsterdam:20251025T220000
DTSTAMP:20260423T004615
CREATED:20241004T144309Z
LAST-MODIFIED:20251009T114242Z
UID:5739-1761408000-1761429600@aross.nl
SUMMARY:Toertocht met mosselen
DESCRIPTION:Het programma ziet er als volgt uit: \n16:00 uur verzamelen en boten buiten leggen en klaarmaken. \n17:00 uur lekker het water op \n19:30 uur terug bij het clubhuis en alles opruimen \n20:00 uur (mossel)maaltijd en gezelligheid \nTot ……..  einde en genieten van de mooie herinneringen.
URL:https://aross.nl/event/avondtocht/
LOCATION:AROSS\, Ossestraat 15\, Macharen\, Noord-Brabant\, 5367NE\, Nederland
CATEGORIES:AROSS,Roeien
ATTACH;FMTTYPE=image/jpeg:https://aross.nl/wp-content/uploads/2021/10/20211008_193518.jpg
ORGANIZER;CN="AROSS":MAILTO:roeien@aross.nl
END:VEVENT
BEGIN:VEVENT
DTSTART;TZID=Europe/Amsterdam:20251018T080000
DTEND;TZID=Europe/Amsterdam:20251018T170000
DTSTAMP:20260423T004615
CREATED:20250915T132210Z
LAST-MODIFIED:20250915T132737Z
UID:6228-1760774400-1760806800@aross.nl
SUMMARY:Tromp Boatrace
DESCRIPTION:
URL:https://aross.nl/event/tromp-boatrace/
LOCATION:HRV Cornelis Tromp\, Vreelandseweg 56\, Hilversum\, 1216 CH
CATEGORIES:Roeien,Wedstrijdroeien
END:VEVENT
BEGIN:VEVENT
DTSTART;TZID=Europe/Amsterdam:20251004T100000
DTEND;TZID=Europe/Amsterdam:20251004T170000
DTSTAMP:20260423T004615
CREATED:20211002T060000Z
LAST-MODIFIED:20250915T131838Z
UID:1094-1759572000-1759597200@aross.nl
SUMMARY:Oktoberregatta
DESCRIPTION:Wedstrijd over 6.500 meter
URL:https://aross.nl/event/oktoberregatta/
LOCATION:RV TOR\, Beekse Bergen 9\, Hilvarenbeek\, 5081 NJ
CATEGORIES:Jeugdroeien,Wedstrijdroeien
END:VEVENT
BEGIN:VEVENT
DTSTART;TZID=Europe/Amsterdam:20250906T090000
DTEND;TZID=Europe/Amsterdam:20250906T140000
DTSTAMP:20260423T004615
CREATED:20220402T123000Z
LAST-MODIFIED:20250824T180607Z
UID:4223-1757149200-1757167200@aross.nl
SUMMARY:Onderlinge
DESCRIPTION:De Onderlinge start om 9.00 uur. De eerste 1.000 meter varen we in de eigen ploeg en als die niet (in zijn geheel) mee doet\, stellen we ploegen samen van iedereen die zich ingeschreven heeft. De tweede 1.000 meter mixen we sowieso alles door elkaar.
URL:https://aross.nl/event/onderlinge-2/
LOCATION:AROSS\, Ossestraat 15\, Macharen\, Noord-Brabant\, 5367NE\, Nederland
CATEGORIES:AROSS,Roeien
ORGANIZER;CN="AROSS":MAILTO:roeien@aross.nl
END:VEVENT
BEGIN:VEVENT
DTSTART;TZID=Europe/Amsterdam:20250828T080000
DTEND;TZID=Europe/Amsterdam:20250828T170000
DTSTAMP:20260423T004615
CREATED:20250515T112442Z
LAST-MODIFIED:20250515T113455Z
UID:6070-1756368000-1756400400@aross.nl
SUMMARY:Roeiclinic Gemeente Oss
DESCRIPTION:
URL:https://aross.nl/event/roeiclinic-gemeente-oss/
LOCATION:AROSS\, Ossestraat 15\, Macharen\, Noord-Brabant\, 5367NE\, Nederland
CATEGORIES:AROSS
ATTACH;FMTTYPE=image/jpeg:https://aross.nl/wp-content/uploads/2020/08/fotoshoot_20140412_0116.jpg
ORGANIZER;CN="AROSS":MAILTO:roeien@aross.nl
END:VEVENT
BEGIN:VEVENT
DTSTART;TZID=Europe/Amsterdam:20250823T110000
DTEND;TZID=Europe/Amsterdam:20250823T140000
DTSTAMP:20260423T004615
CREATED:20250716T093327Z
LAST-MODIFIED:20250825T192421Z
UID:6153-1755946800-1755957600@aross.nl
SUMMARY:Picknick in Gouden Ham
DESCRIPTION:
URL:https://aross.nl/event/picknick-in-gouden-ham/
LOCATION:AROSS\, Ossestraat 15\, Macharen\, Noord-Brabant\, 5367NE\, Nederland
CATEGORIES:AROSS
ORGANIZER;CN="AROSS":MAILTO:roeien@aross.nl
END:VEVENT
BEGIN:VEVENT
DTSTART;TZID=Europe/Amsterdam:20250822T080000
DTEND;TZID=Europe/Amsterdam:20250822T170000
DTSTAMP:20260423T004615
CREATED:20250515T112232Z
LAST-MODIFIED:20250515T112315Z
UID:6068-1755849600-1755882000@aross.nl
SUMMARY:Sail Amsterdam
DESCRIPTION:
URL:https://aross.nl/event/sail-amsterdam/
LOCATION:RV RIC\, Korte Ouderkerkerdijk 32\, Amsterdam\, 1096 AC
CATEGORIES:AROSS,Roeien
END:VEVENT
BEGIN:VEVENT
DTSTART;TZID=Europe/Amsterdam:20250706T093000
DTEND;TZID=Europe/Amsterdam:20250706T113000
DTSTAMP:20260423T004615
CREATED:20250312T143238Z
LAST-MODIFIED:20250515T112855Z
UID:5941-1751794200-1751801400@aross.nl
SUMMARY:Examens Sturen in C-boten tot aan de Maas
DESCRIPTION:
URL:https://aross.nl/event/examens-sturen-in-c-boten-tot-aan-de-maas-2/
LOCATION:AROSS\, Ossestraat 15\, Macharen\, Noord-Brabant\, 5367NE\, Nederland
CATEGORIES:Roeien
ORGANIZER;CN="AROSS":MAILTO:roeien@aross.nl
END:VEVENT
BEGIN:VEVENT
DTSTART;TZID=Europe/Amsterdam:20250702T193000
DTEND;TZID=Europe/Amsterdam:20250702T213000
DTSTAMP:20260423T004615
CREATED:20210618T121129Z
LAST-MODIFIED:20250515T112755Z
UID:1766-1751484600-1751491800@aross.nl
SUMMARY:Examens Scullen 1
DESCRIPTION:
URL:https://aross.nl/event/examens-scullen-2/
LOCATION:AROSS\, Ossestraat 15\, Macharen\, Noord-Brabant\, 5367NE\, Nederland
CATEGORIES:AROSS,Roeien
ORGANIZER;CN="AROSS":MAILTO:roeien@aross.nl
END:VEVENT
BEGIN:VEVENT
DTSTART;TZID=Europe/Amsterdam:20250625T190000
DTEND;TZID=Europe/Amsterdam:20250625T210000
DTSTAMP:20260423T004615
CREATED:20250312T142953Z
LAST-MODIFIED:20250515T112624Z
UID:5937-1750878000-1750885200@aross.nl
SUMMARY:Examens Scullen 1
DESCRIPTION:
URL:https://aross.nl/event/examens-scullen-1/
LOCATION:AROSS\, Ossestraat 15\, Macharen\, Noord-Brabant\, 5367NE\, Nederland
ORGANIZER;CN="AROSS":MAILTO:roeien@aross.nl
END:VEVENT
BEGIN:VEVENT
DTSTART;TZID=Europe/Amsterdam:20250615T080000
DTEND;TZID=Europe/Amsterdam:20250615T170000
DTSTAMP:20260423T004615
CREATED:20240131T135207Z
LAST-MODIFIED:20250208T143823Z
UID:5492-1749974400-1750006800@aross.nl
SUMMARY:Regiowedstrijd AROSS - De Hertog
DESCRIPTION:Op zondag 15 juni 2025 wordt een regiowedstrijd door AROSS en De Hertog georganiseerd. Het is een junioren wedstrijd met 2 boten boord-aan-boord over het Burgemeester Delenkanaal in Oss (Macharen). \nVoor jeugd t/m 14 jaar – 500m\nVoor jeugd van 15 t/m 18jaar – 1000m \nRoeivereniging AROSS heeft eigen parkeergelegenheid\, maar is beperkt. \n– 08:30 Loods open\, commissie aanwezig\n– 09:00 Wedstrijdsecretariaat geopend\n– 10:00 Oproeien eerste boten\n– 10:30 Eerste start \nPer blok zullen maximaal 8 wedstrijden (16 boten) worden ingedeeld i.v.m. bootverdeling.\nBlokindeling zal na de sluitingsdatum worden bepaald aan de hand van het aantal inschrijvingen. \n– 15.30u – 16.00u (verwacht tijdstip) prijsuitreiking \nLangs het parcours is een smal fietspad\, zodat de wedstrijd goed te volgen is. Daarentegen is dit geen doorgaand fietspad\, dus zal men geen hinder hebben van enig verkeer. \nBaankaart
URL:https://aross.nl/event/regiowedstrijd/
LOCATION:AROSS\, Ossestraat 15\, Macharen\, Noord-Brabant\, 5367NE\, Nederland
CATEGORIES:AROSS,Jeugdroeien
ATTACH;FMTTYPE=image/jpeg:https://aross.nl/wp-content/uploads/2020/08/fotoshoot_20140412_0116.jpg
ORGANIZER;CN="AROSS Jeugd":MAILTO:jeugdroeien@aross,nl
END:VEVENT
BEGIN:VEVENT
DTSTART;TZID=Europe/Amsterdam:20250611T200000
DTEND;TZID=Europe/Amsterdam:20250611T213000
DTSTAMP:20260423T004615
CREATED:20250515T113221Z
LAST-MODIFIED:20250515T113737Z
UID:6075-1749672000-1749677400@aross.nl
SUMMARY:Introductieavond beginnende roeiers
DESCRIPTION:
URL:https://aross.nl/event/introductieavond-beginnende-roeiers/
LOCATION:AROSS\, Ossestraat 15\, Macharen\, Noord-Brabant\, 5367NE\, Nederland
CATEGORIES:AROSS
ATTACH;FMTTYPE=image/jpeg:https://aross.nl/wp-content/uploads/2020/08/fotoshoot_20140412_0116.jpg
ORGANIZER;CN="AROSS":MAILTO:roeien@aross.nl
END:VEVENT
BEGIN:VEVENT
DTSTART;VALUE=DATE:20250528
DTEND;VALUE=DATE:20250529
DTSTAMP:20260423T004615
CREATED:20210602T020000Z
LAST-MODIFIED:20241007T165702Z
UID:1792-1748390400-1748476799@aross.nl
SUMMARY:EY-Parthenon Ringvaart Regatta
DESCRIPTION:Afstand: 100 kilometer \nWedstijd marathon
URL:https://aross.nl/event/ey-parthenon-ringvaart-regatta/
LOCATION:ASOPOS De Vliet\, Zijlstroom 137\, Leiderdorp\, 2353 LN
CATEGORIES:Marathonroeien
END:VEVENT
BEGIN:VEVENT
DTSTART;TZID=Europe/Amsterdam:20250526T200000
DTEND;TZID=Europe/Amsterdam:20250526T213000
DTSTAMP:20260423T004615
CREATED:20250327T120012Z
LAST-MODIFIED:20250515T113615Z
UID:5981-1748289600-1748295000@aross.nl
SUMMARY:Reanimatie en AED-training
DESCRIPTION:Veiligheid op en rond het water staat bij onze roeiclub voorop. Daarom organiseren we wederom een reanimatie en AED-training\, zodat jij weet hoe je moet handelen in een noodsituatie. Tijdens deze training leer je hoe je een AED (automatische externe defibrillator) gebruikt en hoe je basisreanimatie toepast. De training wordt door de heer Wim Gielis verzorgd \nWil je bijdragen aan een veilige omgeving binnen onze club? Meld je dan aan voor de training! Er is een beperkt aantal plekken (circa 10) dus wees er snel bij. Kosten zijn € 10.- per persoon (AROSS neemt de andere helft voor haar rekening). \nAanmelden kan via email naar Veiligheid@Aross.nl. 
URL:https://aross.nl/event/reanimatie-en-aed-training/
LOCATION:AROSS\, Ossestraat 15\, Macharen\, Noord-Brabant\, 5367NE\, Nederland
CATEGORIES:AROSS
ATTACH;FMTTYPE=image/jpeg:https://aross.nl/wp-content/uploads/2020/08/fotoshoot_20140412_0116.jpg
ORGANIZER;CN="AROSS":MAILTO:roeien@aross.nl
END:VEVENT
BEGIN:VEVENT
DTSTART;TZID=Europe/Amsterdam:20250504T043000
DTEND;TZID=Europe/Amsterdam:20250504T090000
DTSTAMP:20260423T004615
CREATED:20231120T190532Z
LAST-MODIFIED:20250416T083912Z
UID:5448-1746333000-1746349200@aross.nl
SUMMARY:Dauwroeien
DESCRIPTION:
URL:https://aross.nl/event/dauwroeien/
LOCATION:AROSS\, Ossestraat 15\, Macharen\, Noord-Brabant\, 5367NE\, Nederland
ORGANIZER;CN="AROSS":MAILTO:roeien@aross.nl
END:VEVENT
BEGIN:VEVENT
DTSTART;TZID=Europe/Amsterdam:20250417T093000
DTEND;TZID=Europe/Amsterdam:20250417T120000
DTSTAMP:20260423T004615
CREATED:20250312T143136Z
LAST-MODIFIED:20250312T143728Z
UID:5939-1744882200-1744891200@aross.nl
SUMMARY:Examens Sturen in C-boten tot aan de Maas
DESCRIPTION:
URL:https://aross.nl/event/examens-sturen-in-c-boten-tot-aan-de-maas/
LOCATION:AROSS\, Ossestraat 15\, Macharen\, Noord-Brabant\, 5367NE\, Nederland
CATEGORIES:Roeien
ORGANIZER;CN="AROSS":MAILTO:roeien@aross.nl
END:VEVENT
BEGIN:VEVENT
DTSTART;TZID=Europe/Amsterdam:20250406T080000
DTEND;TZID=Europe/Amsterdam:20250406T170000
DTSTAMP:20260423T004615
CREATED:20250105T125028Z
LAST-MODIFIED:20250105T125144Z
UID:5842-1743926400-1743958800@aross.nl
SUMMARY:Weerribben-Wieden Toertocht
DESCRIPTION:
URL:https://aross.nl/event/weerribben-wieden-toertocht/
LOCATION:RV ’t Diep\, Hooidijk 2\, Tuk\, 8334 TP
CATEGORIES:Toerroeien
END:VEVENT
BEGIN:VEVENT
DTSTART;TZID=Europe/Amsterdam:20250405T080000
DTEND;TZID=Europe/Amsterdam:20250405T170000
DTSTAMP:20260423T004615
CREATED:20210327T060000Z
LAST-MODIFIED:20250105T125210Z
UID:3167-1743840000-1743872400@aross.nl
SUMMARY:Weerribben-Wieden Marathon (MWM)
DESCRIPTION:Afstand: 53 km \nWedstrijd en prestatie marathon
URL:https://aross.nl/event/weerribben-wieden-marathon-mwm/
LOCATION:RV ’t Diep\, Hooidijk 2\, Tuk\, 8334 TP
CATEGORIES:Marathonroeien
END:VEVENT
END:VCALENDAR