BEGIN:VCALENDAR
VERSION:2.0
PRODID:-//AROSS - ECPv6.15.20//NONSGML v1.0//EN
CALSCALE:GREGORIAN
METHOD:PUBLISH
X-WR-CALNAME:AROSS
X-ORIGINAL-URL:https://aross.nl
X-WR-CALDESC:Evenementen voor AROSS
REFRESH-INTERVAL;VALUE=DURATION:PT1H
X-Robots-Tag:noindex
X-PUBLISHED-TTL:PT1H
BEGIN:VTIMEZONE
TZID:Europe/Amsterdam
BEGIN:DAYLIGHT
TZOFFSETFROM:+0100
TZOFFSETTO:+0200
TZNAME:CEST
DTSTART:20230326T010000
END:DAYLIGHT
BEGIN:STANDARD
TZOFFSETFROM:+0200
TZOFFSETTO:+0100
TZNAME:CET
DTSTART:20231029T010000
END:STANDARD
BEGIN:DAYLIGHT
TZOFFSETFROM:+0100
TZOFFSETTO:+0200
TZNAME:CEST
DTSTART:20240331T010000
END:DAYLIGHT
BEGIN:STANDARD
TZOFFSETFROM:+0200
TZOFFSETTO:+0100
TZNAME:CET
DTSTART:20241027T010000
END:STANDARD
BEGIN:DAYLIGHT
TZOFFSETFROM:+0100
TZOFFSETTO:+0200
TZNAME:CEST
DTSTART:20250330T010000
END:DAYLIGHT
BEGIN:STANDARD
TZOFFSETFROM:+0200
TZOFFSETTO:+0100
TZNAME:CET
DTSTART:20251026T010000
END:STANDARD
BEGIN:DAYLIGHT
TZOFFSETFROM:+0100
TZOFFSETTO:+0200
TZNAME:CEST
DTSTART:20260329T010000
END:DAYLIGHT
BEGIN:STANDARD
TZOFFSETFROM:+0200
TZOFFSETTO:+0100
TZNAME:CET
DTSTART:20261025T010000
END:STANDARD
END:VTIMEZONE
BEGIN:VEVENT
DTSTART;TZID=Europe/Amsterdam:20250504T043000
DTEND;TZID=Europe/Amsterdam:20250504T090000
DTSTAMP:20260423T134445
CREATED:20231120T190532Z
LAST-MODIFIED:20250416T083912Z
UID:5448-1746333000-1746349200@aross.nl
SUMMARY:Dauwroeien
DESCRIPTION:
URL:https://aross.nl/event/dauwroeien/
LOCATION:AROSS\, Ossestraat 15\, Macharen\, Noord-Brabant\, 5367NE\, Nederland
ORGANIZER;CN="AROSS":MAILTO:roeien@aross.nl
END:VEVENT
BEGIN:VEVENT
DTSTART;TZID=Europe/Amsterdam:20250417T093000
DTEND;TZID=Europe/Amsterdam:20250417T120000
DTSTAMP:20260423T134445
CREATED:20250312T143136Z
LAST-MODIFIED:20250312T143728Z
UID:5939-1744882200-1744891200@aross.nl
SUMMARY:Examens Sturen in C-boten tot aan de Maas
DESCRIPTION:
URL:https://aross.nl/event/examens-sturen-in-c-boten-tot-aan-de-maas/
LOCATION:AROSS\, Ossestraat 15\, Macharen\, Noord-Brabant\, 5367NE\, Nederland
CATEGORIES:Roeien
ORGANIZER;CN="AROSS":MAILTO:roeien@aross.nl
END:VEVENT
BEGIN:VEVENT
DTSTART;TZID=Europe/Amsterdam:20250406T080000
DTEND;TZID=Europe/Amsterdam:20250406T170000
DTSTAMP:20260423T134445
CREATED:20250105T125028Z
LAST-MODIFIED:20250105T125144Z
UID:5842-1743926400-1743958800@aross.nl
SUMMARY:Weerribben-Wieden Toertocht
DESCRIPTION:
URL:https://aross.nl/event/weerribben-wieden-toertocht/
LOCATION:RV ’t Diep\, Hooidijk 2\, Tuk\, 8334 TP
CATEGORIES:Toerroeien
END:VEVENT
BEGIN:VEVENT
DTSTART;TZID=Europe/Amsterdam:20250405T080000
DTEND;TZID=Europe/Amsterdam:20250405T170000
DTSTAMP:20260423T134445
CREATED:20210327T060000Z
LAST-MODIFIED:20250105T125210Z
UID:3167-1743840000-1743872400@aross.nl
SUMMARY:Weerribben-Wieden Marathon (MWM)
DESCRIPTION:Afstand: 53 km \nWedstrijd en prestatie marathon
URL:https://aross.nl/event/weerribben-wieden-marathon-mwm/
LOCATION:RV ’t Diep\, Hooidijk 2\, Tuk\, 8334 TP
CATEGORIES:Marathonroeien
END:VEVENT
BEGIN:VEVENT
DTSTART;TZID=Europe/Amsterdam:20250329T093000
DTEND;TZID=Europe/Amsterdam:20250329T120000
DTSTAMP:20260423T134445
CREATED:20210618T121935Z
LAST-MODIFIED:20250312T145859Z
UID:3792-1743240600-1743249600@aross.nl
SUMMARY:Examens Scullen 1
DESCRIPTION:
URL:https://aross.nl/event/examens/
LOCATION:AROSS\, Ossestraat 15\, Macharen\, Noord-Brabant\, 5367NE\, Nederland
CATEGORIES:Roeien
ORGANIZER;CN="AROSS":MAILTO:roeien@aross.nl
END:VEVENT
BEGIN:VEVENT
DTSTART;TZID=Europe/Amsterdam:20250315T080000
DTEND;TZID=Europe/Amsterdam:20250315T170000
DTSTAMP:20260423T134445
CREATED:20211209T152910Z
LAST-MODIFIED:20250210T121208Z
UID:4096-1742025600-1742058000@aross.nl
SUMMARY:Iris Lentemarathon
DESCRIPTION:Afstand: 53 kilomter \nPrestatietocht
URL:https://aross.nl/event/lentemarathon/
LOCATION:RV Iris\, Ruishornlaan 21-23\, Lisse\, 2162 VW
CATEGORIES:Marathonroeien
END:VEVENT
BEGIN:VEVENT
DTSTART;TZID=Europe/Amsterdam:20250222T110000
DTEND;TZID=Europe/Amsterdam:20250222T123000
DTSTAMP:20260423T134445
CREATED:20221015T135352Z
LAST-MODIFIED:20250208T142912Z
UID:4495-1740222000-1740227400@aross.nl
SUMMARY:Zwerfafval opruimen
DESCRIPTION:
URL:https://aross.nl/event/zwerfafval-opruimen/
LOCATION:AROSS\, Ossestraat 15\, Macharen\, Noord-Brabant\, 5367NE\, Nederland
CATEGORIES:AROSS
ORGANIZER;CN="AROSS":MAILTO:roeien@aross.nl
END:VEVENT
BEGIN:VEVENT
DTSTART;TZID=Europe/Amsterdam:20241013T080000
DTEND;TZID=Europe/Amsterdam:20241013T170000
DTSTAMP:20260423T134445
CREATED:20211010T040000Z
LAST-MODIFIED:20240207T142236Z
UID:1075-1728806400-1728838800@aross.nl
SUMMARY:Horzolmarathon
DESCRIPTION:Afstand: 51 kilometer \nWedstrijd en prestatie marathon
URL:https://aross.nl/event/horzol-marathon/
LOCATION:RV Ossa\, Westdijk 12\, Heerhogowaard\, 1704AK\, Nederland
CATEGORIES:Marathonroeien,Toerroeien
END:VEVENT
BEGIN:VEVENT
DTSTART;TZID=Europe/Amsterdam:20241012T080000
DTEND;TZID=Europe/Amsterdam:20241012T170000
DTSTAMP:20260423T134445
CREATED:20210911T040000Z
LAST-MODIFIED:20240207T142115Z
UID:1662-1728720000-1728752400@aross.nl
SUMMARY:Army Regatta
DESCRIPTION:
URL:https://aross.nl/event/test/
LOCATION:Dudok van Heel\, Kasteelplein 10\, Breda\, 4811XC
CATEGORIES:Wedstrijdroeien
END:VEVENT
BEGIN:VEVENT
DTSTART;TZID=Europe/Amsterdam:20241006T080000
DTEND;TZID=Europe/Amsterdam:20241006T170000
DTSTAMP:20260423T134445
CREATED:20211003T040000Z
LAST-MODIFIED:20240207T142016Z
UID:1331-1728201600-1728234000@aross.nl
SUMMARY:Waterwolf Marathon
DESCRIPTION:Afstand: 52 \nWedstrijd en prestatie marathon
URL:https://aross.nl/event/waterwolf-marathon/
LOCATION:K.G.R. De Hunze\, Praediniussingel 32\, Groningen\, 9711 AG
CATEGORIES:Marathonroeien
END:VEVENT
BEGIN:VEVENT
DTSTART;TZID=Europe/Amsterdam:20240928T080000
DTEND;TZID=Europe/Amsterdam:20240928T170000
DTSTAMP:20260423T134445
CREATED:20210925T040000Z
LAST-MODIFIED:20240207T141925Z
UID:1272-1727510400-1727542800@aross.nl
SUMMARY:Groene Hart Marathon
DESCRIPTION:Afstand: 58 kilometer \nWedstrijd en prestatie marathon
URL:https://aross.nl/event/groene-hart-marathon-rond-alphen/
LOCATION:RV  Alphen\, Machineweg 2-B\, Aarlanderveen\, 2445 BB
CATEGORIES:Marathonroeien
END:VEVENT
BEGIN:VEVENT
DTSTART;TZID=Europe/Amsterdam:20240922T080000
DTEND;TZID=Europe/Amsterdam:20240922T170000
DTSTAMP:20260423T134445
CREATED:20220926T185445Z
LAST-MODIFIED:20240225T190307Z
UID:4454-1726992000-1727024400@aross.nl
SUMMARY:Willemsregatta
DESCRIPTION:
URL:https://aross.nl/event/willemsregatta/
LOCATION:RV De Hertog\, Citadellaan 28\, "s-Hertogenbosch\, 5211 XB
CATEGORIES:Wedstrijdroeien
END:VEVENT
BEGIN:VEVENT
DTSTART;TZID=Europe/Amsterdam:20240921T090000
DTEND;TZID=Europe/Amsterdam:20240921T130000
DTSTAMP:20260423T134445
CREATED:20240224T094419Z
LAST-MODIFIED:20240909T180035Z
UID:5514-1726909200-1726923600@aross.nl
SUMMARY:Coachdag
DESCRIPTION:Op zaterdag 14 september komt Jeroen Brinkman naar AROSS toe. Invulling van het programma volgt later.
URL:https://aross.nl/event/coachdag/
LOCATION:AROSS\, Ossestraat 15\, Macharen\, Noord-Brabant\, 5367NE\, Nederland
CATEGORIES:AROSS,Roeien
ORGANIZER;CN="AROSS":MAILTO:roeien@aross.nl
END:VEVENT
BEGIN:VEVENT
DTSTART;TZID=Europe/Amsterdam:20240914T080000
DTEND;TZID=Europe/Amsterdam:20240914T170000
DTSTAMP:20260423T134445
CREATED:20210911T040000Z
LAST-MODIFIED:20240207T141816Z
UID:3275-1726300800-1726333200@aross.nl
SUMMARY:Mastenbroek Marathon
DESCRIPTION:Afstand: 54 kilometer \nWedstrijd en prestatie marathon
URL:https://aross.nl/event/mastenbroek-marathon-2/
LOCATION:Zwolsche RZV\, Holtenbroekerdijk 100\,\, Zwolle\, 8031 LJ
CATEGORIES:Marathonroeien
END:VEVENT
BEGIN:VEVENT
DTSTART;TZID=Europe/Amsterdam:20240831T080000
DTEND;TZID=Europe/Amsterdam:20240831T170000
DTSTAMP:20260423T134445
CREATED:20210904T040000Z
LAST-MODIFIED:20240207T141719Z
UID:3272-1725091200-1725123600@aross.nl
SUMMARY:Rijnland Marathon
DESCRIPTION:Afstand: 54 kilometer \nWedstrijd en prestatie marathon
URL:https://aross.nl/event/rijnland-marathon/
LOCATION:RV Rijnland\, Oostvlietweg 63\, Leidschendam\, 2266 GN
CATEGORIES:Marathonroeien
END:VEVENT
BEGIN:VEVENT
DTSTART;TZID=Europe/Amsterdam:20240825T080000
DTEND;TZID=Europe/Amsterdam:20240825T170000
DTSTAMP:20260423T134445
CREATED:20210828T040000Z
LAST-MODIFIED:20240207T141534Z
UID:3263-1724572800-1724605200@aross.nl
SUMMARY:Rondom Dordt
DESCRIPTION:Afstand: 53 kilometer \nPrestatie marathon
URL:https://aross.nl/event/rondom-dordt/
LOCATION:KDR&ZV\, Houttuinen 29\, Dordrecht\, 3311 CE
CATEGORIES:Marathonroeien
END:VEVENT
BEGIN:VEVENT
DTSTART;TZID=Europe/Amsterdam:20240818T080000
DTEND;TZID=Europe/Amsterdam:20240818T170000
DTSTAMP:20260423T134445
CREATED:20210822T040000Z
LAST-MODIFIED:20240207T141621Z
UID:3261-1723968000-1724000400@aross.nl
SUMMARY:Magnum marathon
DESCRIPTION:Afstand: 58 kilometer \nPrestatie marathon
URL:https://aross.nl/event/magnum_marathon/
LOCATION:RV Willem 3\, Jan Vroegopsingel 8\, Amsterdam\, 1096 CN
CATEGORIES:Marathonroeien
END:VEVENT
BEGIN:VEVENT
DTSTART;TZID=Europe/Amsterdam:20240706T090000
DTEND;TZID=Europe/Amsterdam:20240706T110000
DTSTAMP:20260423T134445
CREATED:20210618T133705Z
LAST-MODIFIED:20240620T135545Z
UID:3796-1720256400-1720263600@aross.nl
SUMMARY:Examens - sturen
DESCRIPTION:Deze ochtend worden de examens voor het sturen en Skiff afgenomen. De exameneisen zijn te vinden op de website. Klik hier voor de link naar de website
URL:https://aross.nl/event/examens-sturen/
LOCATION:AROSS\, Ossestraat 15\, Macharen\, Noord-Brabant\, 5367NE\, Nederland
CATEGORIES:Roeien
ORGANIZER;CN="AROSS":MAILTO:roeien@aross.nl
END:VEVENT
BEGIN:VEVENT
DTSTART;TZID=Europe/Amsterdam:20240706T080000
DTEND;TZID=Europe/Amsterdam:20240706T170000
DTSTAMP:20260423T134445
CREATED:20210821T040000Z
LAST-MODIFIED:20240207T141343Z
UID:3220-1720252800-1720285200@aross.nl
SUMMARY:Haegsche Bluf Marathon
DESCRIPTION:Afstand: 54 kilometer \nWedstrijd en Prestatie marathon
URL:https://aross.nl/event/haegsche-bluf-marathon/
LOCATION:RV De Laak\, Binckhorstlaan 285\, Den Haag\, 2516 BC
CATEGORIES:Marathonroeien
END:VEVENT
BEGIN:VEVENT
DTSTART;TZID=Europe/Amsterdam:20240630T080000
DTEND;TZID=Europe/Amsterdam:20240630T170000
DTSTAMP:20260423T134445
CREATED:20210613T040000Z
LAST-MODIFIED:20240207T140749Z
UID:3195-1719734400-1719766800@aross.nl
SUMMARY:Tromp Prestatietocht
DESCRIPTION:Afstand: 55 kilometer \nPrestatie marathon \n 
URL:https://aross.nl/event/tromp-prestatietocht/
LOCATION:HRV Cornelis Tromp\, Vreelandseweg 56\, Hilversum\, 1216 CH
CATEGORIES:Marathonroeien
END:VEVENT
BEGIN:VEVENT
DTSTART;TZID=Europe/Amsterdam:20240629T090000
DTEND;TZID=Europe/Amsterdam:20240629T110000
DTSTAMP:20260423T134445
CREATED:20230525T092645Z
LAST-MODIFIED:20240310T080103Z
UID:5270-1719651600-1719658800@aross.nl
SUMMARY:Examens - roeien
DESCRIPTION:Deze ochtend worden de roei-examens afgenomen. De diverse exameneisen staan op  de website. Klik hier voor de link
URL:https://aross.nl/event/examens-roeien/
LOCATION:AROSS\, Ossestraat 15\, Macharen\, Noord-Brabant\, 5367NE\, Nederland
CATEGORIES:AROSS,Roeien
ORGANIZER;CN="AROSS":MAILTO:roeien@aross.nl
END:VEVENT
BEGIN:VEVENT
DTSTART;TZID=Europe/Amsterdam:20240623T080000
DTEND;TZID=Europe/Amsterdam:20240623T170000
DTSTAMP:20260423T134445
CREATED:20210725T040000Z
LAST-MODIFIED:20240207T140253Z
UID:3230-1719129600-1719162000@aross.nl
SUMMARY:IJsselmondetocht
DESCRIPTION:Afstand: 62 kilometer \nPrestatie marathon
URL:https://aross.nl/event/ijsselmondetocht/
LOCATION:RV Nautilus\, Plantagelaan 3\, Rotterdam\, 3063 NG
CATEGORIES:Marathonroeien
END:VEVENT
BEGIN:VEVENT
DTSTART;TZID=Europe/Amsterdam:20240615T080000
DTEND;TZID=Europe/Amsterdam:20240615T170000
DTSTAMP:20260423T134445
CREATED:20220301T200335Z
LAST-MODIFIED:20240207T135848Z
UID:3282-1718438400-1718470800@aross.nl
SUMMARY:Midzomer Vechtrace
DESCRIPTION:Wedstrijd over 5.000 meter
URL:https://aross.nl/event/midzomer-vechtrace/
LOCATION:RV Weesp\, Utrechtseweg 17\, Weesp\, 1381 GR
CATEGORIES:Wedstrijdroeien
END:VEVENT
BEGIN:VEVENT
DTSTART;TZID=Europe/Amsterdam:20240609T080000
DTEND;TZID=Europe/Amsterdam:20240609T170000
DTSTAMP:20260423T134445
CREATED:20240305T074711Z
LAST-MODIFIED:20240305T074948Z
UID:5526-1717920000-1717952400@aross.nl
SUMMARY:Dutch Junior Open
DESCRIPTION:Jeugd vanaf 14 jaar\nSkiff\, 2x en 4x\n1.000 meter
URL:https://aross.nl/event/dutch-junior-open/
LOCATION:RV TOR\, Beekse Bergen 9\, Hilvarenbeek\, 5081 NJ
CATEGORIES:Jeugdroeien
END:VEVENT
BEGIN:VEVENT
DTSTART;TZID=Europe/Amsterdam:20240609T070000
DTEND;TZID=Europe/Amsterdam:20240609T160000
DTSTAMP:20260423T134445
CREATED:20220301T203048Z
LAST-MODIFIED:20240305T073909Z
UID:4226-1717916400-1717948800@aross.nl
SUMMARY:Dutch Master Open Tilburg
DESCRIPTION:
URL:https://aross.nl/event/dutch-master-open-tilburg/
LOCATION:RV TOR\, Beekse Bergen 9\, Hilvarenbeek\, 5081 NJ
CATEGORIES:Wedstrijdroeien
END:VEVENT
BEGIN:VEVENT
DTSTART;TZID=Europe/Amsterdam:20240525T080000
DTEND;TZID=Europe/Amsterdam:20240525T170000
DTSTAMP:20260423T134445
CREATED:20210417T040000Z
LAST-MODIFIED:20240515T191756Z
UID:3179-1716624000-1716656400@aross.nl
SUMMARY:Nieuwland Marathon (NLM)
DESCRIPTION:Afstand: 74km \nWedstrijd en prestatie marathon. Kan ook in estafette worden gevaren
URL:https://aross.nl/event/nieuwland-marathon-nlm/
LOCATION:RV Pampus\, Verlaatweg 7\, Almere\, 1358 AJ
CATEGORIES:Marathonroeien
END:VEVENT
BEGIN:VEVENT
DTSTART;TZID=Europe/Amsterdam:20240518T080000
DTEND;TZID=Europe/Amsterdam:20240518T170000
DTSTAMP:20260423T134445
CREATED:20210508T040000Z
LAST-MODIFIED:20240131T134734Z
UID:1263-1716019200-1716051600@aross.nl
SUMMARY:Coppelstockmarathon
DESCRIPTION:Afstand: 54km \nWedstrijd en prestatie marathon
URL:https://aross.nl/event/coppelstockmarathon/
LOCATION:RV Voorne-Putten\, Kanaaldijk West 1\, Zwartewaal\, 3238 LM
CATEGORIES:Marathonroeien
END:VEVENT
BEGIN:VEVENT
DTSTART;TZID=Europe/Amsterdam:20240504T080000
DTEND;TZID=Europe/Amsterdam:20240504T170000
DTSTAMP:20260423T134445
CREATED:20210501T040000Z
LAST-MODIFIED:20240131T134626Z
UID:3186-1714809600-1714842000@aross.nl
SUMMARY:De Zaanmarathon
DESCRIPTION:Afstand: 52km \nWedstrijd en prestatie marathon
URL:https://aross.nl/event/de-zaanmarathon/
LOCATION:RV De Zaan\, https://wrvdezaan.nl/\, Zaandijk\, 1544 BX
CATEGORIES:Marathonroeien
END:VEVENT
END:VCALENDAR