BEGIN:VCALENDAR
VERSION:2.0
PRODID:-//AROSS - ECPv6.15.20//NONSGML v1.0//EN
CALSCALE:GREGORIAN
METHOD:PUBLISH
X-WR-CALNAME:AROSS
X-ORIGINAL-URL:https://aross.nl
X-WR-CALDESC:Evenementen voor AROSS
REFRESH-INTERVAL;VALUE=DURATION:PT1H
X-Robots-Tag:noindex
X-PUBLISHED-TTL:PT1H
BEGIN:VTIMEZONE
TZID:Europe/Amsterdam
BEGIN:DAYLIGHT
TZOFFSETFROM:+0100
TZOFFSETTO:+0200
TZNAME:CEST
DTSTART:20240331T010000
END:DAYLIGHT
BEGIN:STANDARD
TZOFFSETFROM:+0200
TZOFFSETTO:+0100
TZNAME:CET
DTSTART:20241027T010000
END:STANDARD
BEGIN:DAYLIGHT
TZOFFSETFROM:+0100
TZOFFSETTO:+0200
TZNAME:CEST
DTSTART:20250330T010000
END:DAYLIGHT
BEGIN:STANDARD
TZOFFSETFROM:+0200
TZOFFSETTO:+0100
TZNAME:CET
DTSTART:20251026T010000
END:STANDARD
BEGIN:DAYLIGHT
TZOFFSETFROM:+0100
TZOFFSETTO:+0200
TZNAME:CEST
DTSTART:20260329T010000
END:DAYLIGHT
BEGIN:STANDARD
TZOFFSETFROM:+0200
TZOFFSETTO:+0100
TZNAME:CET
DTSTART:20261025T010000
END:STANDARD
END:VTIMEZONE
BEGIN:VEVENT
DTSTART;TZID=Europe/Amsterdam:20250315T080000
DTEND;TZID=Europe/Amsterdam:20250315T170000
DTSTAMP:20260424T182421
CREATED:20211209T152910Z
LAST-MODIFIED:20250210T121208Z
UID:4096-1742025600-1742058000@aross.nl
SUMMARY:Iris Lentemarathon
DESCRIPTION:Afstand: 53 kilomter \nPrestatietocht
URL:https://aross.nl/event/lentemarathon/
LOCATION:RV Iris\, Ruishornlaan 21-23\, Lisse\, 2162 VW
CATEGORIES:Marathonroeien
END:VEVENT
BEGIN:VEVENT
DTSTART;TZID=Europe/Amsterdam:20250329T093000
DTEND;TZID=Europe/Amsterdam:20250329T120000
DTSTAMP:20260424T182421
CREATED:20210618T121935Z
LAST-MODIFIED:20250312T145859Z
UID:3792-1743240600-1743249600@aross.nl
SUMMARY:Examens Scullen 1
DESCRIPTION:
URL:https://aross.nl/event/examens/
LOCATION:AROSS\, Ossestraat 15\, Macharen\, Noord-Brabant\, 5367NE\, Nederland
CATEGORIES:Roeien
ORGANIZER;CN="AROSS":MAILTO:roeien@aross.nl
END:VEVENT
END:VCALENDAR