BEGIN:VCALENDAR
VERSION:2.0
PRODID:-//AROSS - ECPv6.15.20//NONSGML v1.0//EN
CALSCALE:GREGORIAN
METHOD:PUBLISH
X-WR-CALNAME:AROSS
X-ORIGINAL-URL:https://aross.nl
X-WR-CALDESC:Evenementen voor AROSS
REFRESH-INTERVAL;VALUE=DURATION:PT1H
X-Robots-Tag:noindex
X-PUBLISHED-TTL:PT1H
BEGIN:VTIMEZONE
TZID:Europe/Amsterdam
BEGIN:DAYLIGHT
TZOFFSETFROM:+0100
TZOFFSETTO:+0200
TZNAME:CEST
DTSTART:20240331T010000
END:DAYLIGHT
BEGIN:STANDARD
TZOFFSETFROM:+0200
TZOFFSETTO:+0100
TZNAME:CET
DTSTART:20241027T010000
END:STANDARD
BEGIN:DAYLIGHT
TZOFFSETFROM:+0100
TZOFFSETTO:+0200
TZNAME:CEST
DTSTART:20250330T010000
END:DAYLIGHT
BEGIN:STANDARD
TZOFFSETFROM:+0200
TZOFFSETTO:+0100
TZNAME:CET
DTSTART:20251026T010000
END:STANDARD
BEGIN:DAYLIGHT
TZOFFSETFROM:+0100
TZOFFSETTO:+0200
TZNAME:CEST
DTSTART:20260329T010000
END:DAYLIGHT
BEGIN:STANDARD
TZOFFSETFROM:+0200
TZOFFSETTO:+0100
TZNAME:CET
DTSTART:20261025T010000
END:STANDARD
END:VTIMEZONE
BEGIN:VEVENT
DTSTART;TZID=Europe/Amsterdam:20250405T080000
DTEND;TZID=Europe/Amsterdam:20250405T170000
DTSTAMP:20260424T182421
CREATED:20210327T060000Z
LAST-MODIFIED:20250105T125210Z
UID:3167-1743840000-1743872400@aross.nl
SUMMARY:Weerribben-Wieden Marathon (MWM)
DESCRIPTION:Afstand: 53 km \nWedstrijd en prestatie marathon
URL:https://aross.nl/event/weerribben-wieden-marathon-mwm/
LOCATION:RV ’t Diep\, Hooidijk 2\, Tuk\, 8334 TP
CATEGORIES:Marathonroeien
END:VEVENT
BEGIN:VEVENT
DTSTART;TZID=Europe/Amsterdam:20250406T080000
DTEND;TZID=Europe/Amsterdam:20250406T170000
DTSTAMP:20260424T182421
CREATED:20250105T125028Z
LAST-MODIFIED:20250105T125144Z
UID:5842-1743926400-1743958800@aross.nl
SUMMARY:Weerribben-Wieden Toertocht
DESCRIPTION:
URL:https://aross.nl/event/weerribben-wieden-toertocht/
LOCATION:RV ’t Diep\, Hooidijk 2\, Tuk\, 8334 TP
CATEGORIES:Toerroeien
END:VEVENT
BEGIN:VEVENT
DTSTART;TZID=Europe/Amsterdam:20250417T093000
DTEND;TZID=Europe/Amsterdam:20250417T120000
DTSTAMP:20260424T182421
CREATED:20250312T143136Z
LAST-MODIFIED:20250312T143728Z
UID:5939-1744882200-1744891200@aross.nl
SUMMARY:Examens Sturen in C-boten tot aan de Maas
DESCRIPTION:
URL:https://aross.nl/event/examens-sturen-in-c-boten-tot-aan-de-maas/
LOCATION:AROSS\, Ossestraat 15\, Macharen\, Noord-Brabant\, 5367NE\, Nederland
CATEGORIES:Roeien
ORGANIZER;CN="AROSS":MAILTO:roeien@aross.nl
END:VEVENT
END:VCALENDAR